BEGIN:VCALENDAR
VERSION:2.0
PRODID:-//Pädagogisches Weiterbildungsinstitut - ECPv5.10.0//NONSGML v1.0//EN
CALSCALE:GREGORIAN
METHOD:PUBLISH
X-WR-CALNAME:Pädagogisches Weiterbildungsinstitut
X-ORIGINAL-URL:http://berliner-bildungsprogramm.de
X-WR-CALDESC:Veranstaltungen für Pädagogisches Weiterbildungsinstitut
BEGIN:VTIMEZONE
TZID:UTC
BEGIN:STANDARD
TZOFFSETFROM:+0000
TZOFFSETTO:+0000
TZNAME:UTC
DTSTART:20200101T000000
END:STANDARD
END:VTIMEZONE
BEGIN:VEVENT
DTSTART;TZID=UTC:20200326T160000
DTEND;TZID=UTC:20200326T190000
DTSTAMP:20260425T035702
CREATED:20200211T081429Z
LAST-MODIFIED:20200219T153100Z
UID:1008-1585238400-1585249200@berliner-bildungsprogramm.de
SUMMARY:Qualifizierungsstammtisch für Quereinsteiger*innen
DESCRIPTION:Quereinsteiger in Berliner Kitas sind eine wertvolle Bereicherung für jedes Team. Die Anerkennung als pädagogische Fachkraft ist in der Regel mit Weiterbildungsauflagen verbunden.\nWir verbinden unser Qualifizierungsangebot mit einem monatlichen Austausch\, einem sogenannten &#8222;Stammtisch Quereinstieg&#8220;. Die Teilnahme wird bescheinigt und gilt als anrechenbare Fortbildung. Mit den Teilnehmer*innen können weitere Qualifizierungsangebote individuell geplant und durchgeführt werden.\nZur besseren Planung der Treffen bitten wir um Voranmeldung.\nAlle Termine und Themen in der Übersicht: \n30.01.2020 Überblick zum Berliner Bildungsprogramm\n27.02.2020 Bindung und Eingewöhnung\n26.03.2020 Aufsichtspflicht\n30.04.2020 Bildungs- und Entwicklungsprozesse beobachten und\ndokumentieren\n28.05.2020 alltägliches Leben mit Kinder gestalten\n25.06.2020 Projekte planen und gestalten\n27.08.2020 rechtliche Grundlagen II\n24.09.2020 Gesunde Ernährung im Kitaalltag\n29.10.2020 Zusammenarbeit mit Familien\n26.11.2020 Kommunikation im Team \nZeit: jeden letzten Donnerstag im Monat\, 16:00 bis 19:00 Uhr\nOrt: MiniKitas First gGmbH\, Prinz-Eugen-Str. 16 in 13347 Berlin\nZielgruppe: Quereinsteiger*innen in Kitas &#8211;\nTeilnahmegebühren: 10\,00€ pro Tag und Teilnehmer/in inkl. Getränke und Materialien
URL:http://berliner-bildungsprogramm.de/seminarkalender/qualifizierungsstammtisch-fuer-quereinsteiger-2/
LOCATION:MiniKitas Tipi\, Prinz-Eugen-Str. 16\, Berlin\, 13347\, Deutschland
END:VEVENT
END:VCALENDAR